Workbook

Sheet Déclaration des salaires
Q2: Remarques
F3: Déclaration des salaires versés par l'employeur à son personnel | Q3: Nous vous rappelons que la Caisse propose un portail de services en ligne lequel permet, entre autres, la saisie de votre déclaration annuelle des salaires de manière simple et rapide.
F5: Année de déclaration | Q5: =IF(K5="","Champ obligatoire : veuillez sélectionner l'année de déclaration dans la cellule K5.",IF(K5=2024,"Dès le 1er janvier 2024, le salarié ayant atteint l'âge légal de référence, peut renoncer à la déduction de la franchise.","")) -> Champ obligatoire : veuillez sélectionner l'année de déclaration dans la cellule K5.
C6: Employeur | F6: LAA / LPP
C7: Numéro d'affilié | F7: Institution de prévoyance LPP : | Q7: =IFERROR(IF(K7="",IF(AND(Z15:Z26),"",Listes!A10),""),"")
C8: Raison commerciale | F8: Assurance LAA : | Q8: {=IF(K8="",IF(AND(NOT(S15:S26)),"",Listes!A11),"")}
C9: Adresse | Q9: =IF(L28=0,Listes!A13,"") -> Si vous n'avez pas occupé de personnel durant toute l'année, veuillez nous l'indiquer en cochant la case prévue à cet effet. A envoyer même si vous n'avez pas employé de personnel.
F10: =" Pas de personnel en "&K5 -> Pas de personnel en | L10: Masse salariale prévue en 2025 | Q10: =IF(AND(V15:V26),"",Listes!A12)
C12: Liste des membres du personnel | E12: Renonc. à franchise | F12: Canton de travail | G12: Période d'activité | L12: Salaires bruts | S12: NSS | T12: AVS | U12: NSS | V12: NSS | W12: AVS | X12: >ACI | Y12: ACI | Z12: <LPP
C13: NSS (756.XXXX.XXXX.XX) | D13: Nom et prénom | G13: Année | H13: Début | J13: Fin | L13: AVS / AI / APG | M13: Assurance chômage | N13: AC Solidarité | Q13: Si vous utilisez ce formulaire pour l'annonce d'un complément ou d'une modification de salaire, il y a lieu d'indiquer uniquement les différences. | S13: Vide | T13: Vide | U13: NB.SI | V13: Manque | W13: >200 | X13: 148200 | Y13: 0 | Z13: =VLOOKUP(K5,Listes!A3:B7,2,FALSE) -> #N/A | AA13: Vérification de la clé de contrôle
H14: Jour | I14: Mois | J14: Jour | K14: Mois | AA14: 1 | AB14: 1 | AC14: 2 | AD14: 3 | AE14: 3 | AF14: 1 | AG14: 4 | AH14: 3 | AI14: 5 | AJ14: 1 | AK14: 6 | AL14: 3 | AM14: 7 | AN14: 1 | AO14: 8 | AP14: 3 | AQ14: 9 | AR14: 1 | AS14: 10 | AT14: 3 | AU14: 11 | AV14: 1 | AW14: 12 | AX14: 3 | AY14: 13 | AZ14: TOT | BA14: AR.S | BB14: CLÉ | BC14: RES | BD14: No. Ctrl.
E15: Non | Q15: =IF(T15,IF(U15,Listes!$A$16,IF(NOT(S15),Listes!$A$17,IF(NOT(BD15),Listes!$A$18,IF(NOT(W15),Listes!$A$19,IF(NOT(X15),Listes!$A$20,IF(Y15,Listes!$A$21,"")))))),"") | S15: =C15<>0 -> FALSE | T15: =NOT(ISBLANK(L15)) -> FALSE | U15: =COUNTIF($C$15:$C$26,C15)>1 -> FALSE | V15: =S15=T15 -> TRUE | W15: =L15>200 -> FALSE | X15: =M15<=$X$13 -> TRUE | Y15: =M15=0 -> TRUE | Z15: =L15<=$Z$13 -> #N/A | AA15: =MID($C15,1,1) | AB15: =IFERROR(AA15*$AB$14,"") | AC15: =MID($C15,2,1) | AD15: =IFERROR(AC15*$AD$14,"") | AE15: =MID($C15,3,1) | AF15: =IFERROR(AE15*$AF$14,"") | AG15: =MID($C15,5,1) | AH15: =IFERROR(AG15*$AH$14,"") | AI15: =MID($C15,6,1) | AJ15: =IFERROR(AI15*$AJ$14,"") | AK15: =MID($C15,7,1) | AL15: =IFERROR(AK15*$AL$14,"") | AM15: =MID($C15,8,1) | AN15: =IFERROR(AM15*$AN$14,"") | AO15: =MID($C15,10,1) | AP15: =IFERROR(AO15*$AP$14,"") | AQ15: =MID($C15,11,1) | AR15: =IFERROR(AQ15*$AR$14,"") | AS15: =MID($C15,12,1) | AT15: =IFERROR(AS15*$AT$14,"") | AU15: =MID($C15,13,1) | AV15: =IFERROR(AU15*$AV$14,"") | AW15: =MID($C15,15,1) | AX15: =IFERROR(AW15*$AX$14,"") | AY15: =MID($C15,16,1) | AZ15: =SUM(AB15,AD15,AF15,AH15,AJ15,AL15,AN15,AP15,AR15,AT15,AV15,AX15) -> 0 | BA15: =ROUNDUP(AZ15,-1) -> 0 | BB15: =BA15-AZ15 -> 0 | BC15: =IFERROR(BB15-AY15,"") | BD15: =BC15=0 -> FALSE
Q16: =IF(T16,IF(U16,Listes!$A$16,IF(NOT(S16),Listes!$A$17,IF(NOT(BD16),Listes!$A$18,IF(NOT(W16),Listes!$A$19,IF(NOT(X16),Listes!$A$20,IF(Y16,Listes!$A$21,"")))))),"") | S16: =C16<>0 -> FALSE | T16: =NOT(ISBLANK(L16)) -> FALSE | U16: =COUNTIF($C$15:$C$26,C16)>1 -> FALSE | V16: =S16=T16 -> TRUE | W16: =L16>200 -> FALSE | X16: =M16<=$X$13 -> TRUE | Y16: =M16=0 -> TRUE | Z16: =L16<=$Z$13 -> #N/A | AA16: =MID($C16,1,1) | AB16: =IFERROR(AA16*$AB$14,"") | AC16: =MID($C16,2,1) | AD16: =IFERROR(AC16*$AD$14,"") | AE16: =MID($C16,3,1) | AF16: =IFERROR(AE16*$AF$14,"") | AG16: =MID($C16,5,1) | AH16: =IFERROR(AG16*$AH$14,"") | AI16: =MID($C16,6,1) | AJ16: =IFERROR(AI16*$AJ$14,"") | AK16: =MID($C16,7,1) | AL16: =IFERROR(AK16*$AL$14,"") | AM16: =MID($C16,8,1) | AN16: =IFERROR(AM16*$AN$14,"") | AO16: =MID($C16,10,1) | AP16: =IFERROR(AO16*$AP$14,"") | AQ16: =MID($C16,11,1) | AR16: =IFERROR(AQ16*$AR$14,"") | AS16: =MID($C16,12,1) | AT16: =IFERROR(AS16*$AT$14,"") | AU16: =MID($C16,13,1) | AV16: =IFERROR(AU16*$AV$14,"") | AW16: =MID($C16,15,1) | AX16: =IFERROR(AW16*$AX$14,"") | AY16: =MID($C16,16,1) | AZ16: =SUM(AB16,AD16,AF16,AH16,AJ16,AL16,AN16,AP16,AR16,AT16,AV16,AX16) -> 0 | BA16: =ROUNDUP(AZ16,-1) -> 0 | BB16: =BA16-AZ16 -> 0 | BC16: =IFERROR(BB16-AY16,"") | BD16: =BC16=0 -> FALSE
Q17: =IF(T17,IF(U17,Listes!$A$16,IF(NOT(S17),Listes!$A$17,IF(NOT(BD17),Listes!$A$18,IF(NOT(W17),Listes!$A$19,IF(NOT(X17),Listes!$A$20,IF(Y17,Listes!$A$21,"")))))),"") | S17: =C17<>0 -> FALSE | T17: =NOT(ISBLANK(L17)) -> FALSE | U17: =COUNTIF($C$15:$C$26,C17)>1 -> FALSE | V17: =S17=T17 -> TRUE | W17: =L17>200 -> FALSE | X17: =M17<=$X$13 -> TRUE | Y17: =M17=0 -> TRUE | Z17: =L17<=$Z$13 -> #N/A | AA17: =MID($C17,1,1) | AB17: =IFERROR(AA17*$AB$14,"") | AC17: =MID($C17,2,1) | AD17: =IFERROR(AC17*$AD$14,"") | AE17: =MID($C17,3,1) | AF17: =IFERROR(AE17*$AF$14,"") | AG17: =MID($C17,5,1) | AH17: =IFERROR(AG17*$AH$14,"") | AI17: =MID($C17,6,1) | AJ17: =IFERROR(AI17*$AJ$14,"") | AK17: =MID($C17,7,1) | AL17: =IFERROR(AK17*$AL$14,"") | AM17: =MID($C17,8,1) | AN17: =IFERROR(AM17*$AN$14,"") | AO17: =MID($C17,10,1) | AP17: =IFERROR(AO17*$AP$14,"") | AQ17: =MID($C17,11,1) | AR17: =IFERROR(AQ17*$AR$14,"") | AS17: =MID($C17,12,1) | AT17: =IFERROR(AS17*$AT$14,"") | AU17: =MID($C17,13,1) | AV17: =IFERROR(AU17*$AV$14,"") | AW17: =MID($C17,15,1) | AX17: =IFERROR(AW17*$AX$14,"") | AY17: =MID($C17,16,1) | AZ17: =SUM(AB17,AD17,AF17,AH17,AJ17,AL17,AN17,AP17,AR17,AT17,AV17,AX17) -> 0 | BA17: =ROUNDUP(AZ17,-1) -> 0 | BB17: =BA17-AZ17 -> 0 | BC17: =IFERROR(BB17-AY17,"") | BD17: =BC17=0 -> FALSE
Q18: =IF(T18,IF(U18,Listes!$A$16,IF(NOT(S18),Listes!$A$17,IF(NOT(BD18),Listes!$A$18,IF(NOT(W18),Listes!$A$19,IF(NOT(X18),Listes!$A$20,IF(Y18,Listes!$A$21,"")))))),"") | S18: =C18<>0 -> FALSE | T18: =NOT(ISBLANK(L18)) -> FALSE | U18: =COUNTIF($C$15:$C$26,C18)>1 -> FALSE | V18: =S18=T18 -> TRUE | W18: =L18>200 -> FALSE | X18: =M18<=$X$13 -> TRUE | Y18: =M18=0 -> TRUE | Z18: =L18<=$Z$13 -> #N/A | AA18: =MID($C18,1,1) | AB18: =IFERROR(AA18*$AB$14,"") | AC18: =MID($C18,2,1) | AD18: =IFERROR(AC18*$AD$14,"") | AE18: =MID($C18,3,1) | AF18: =IFERROR(AE18*$AF$14,"") | AG18: =MID($C18,5,1) | AH18: =IFERROR(AG18*$AH$14,"") | AI18: =MID($C18,6,1) | AJ18: =IFERROR(AI18*$AJ$14,"") | AK18: =MID($C18,7,1) | AL18: =IFERROR(AK18*$AL$14,"") | AM18: =MID($C18,8,1) | AN18: =IFERROR(AM18*$AN$14,"") | AO18: =MID($C18,10,1) | AP18: =IFERROR(AO18*$AP$14,"") | AQ18: =MID($C18,11,1) | AR18: =IFERROR(AQ18*$AR$14,"") | AS18: =MID($C18,12,1) | AT18: =IFERROR(AS18*$AT$14,"") | AU18: =MID($C18,13,1) | AV18: =IFERROR(AU18*$AV$14,"") | AW18: =MID($C18,15,1) | AX18: =IFERROR(AW18*$AX$14,"") | AY18: =MID($C18,16,1) | AZ18: =SUM(AB18,AD18,AF18,AH18,AJ18,AL18,AN18,AP18,AR18,AT18,AV18,AX18) -> 0 | BA18: =ROUNDUP(AZ18,-1) -> 0 | BB18: =BA18-AZ18 -> 0 | BC18: =IFERROR(BB18-AY18,"") | BD18: =BC18=0 -> FALSE
Q19: =IF(T19,IF(U19,Listes!$A$16,IF(NOT(S19),Listes!$A$17,IF(NOT(BD19),Listes!$A$18,IF(NOT(W19),Listes!$A$19,IF(NOT(X19),Listes!$A$20,IF(Y19,Listes!$A$21,"")))))),"") | S19: =C19<>0 -> FALSE | T19: =NOT(ISBLANK(L19)) -> FALSE | U19: =COUNTIF($C$15:$C$26,C19)>1 -> FALSE | V19: =S19=T19 -> TRUE | W19: =L19>200 -> FALSE | X19: =M19<=$X$13 -> TRUE | Y19: =M19=0 -> TRUE | Z19: =L19<=$Z$13 -> #N/A | AA19: =MID($C19,1,1) | AB19: =IFERROR(AA19*$AB$14,"") | AC19: =MID($C19,2,1) | AD19: =IFERROR(AC19*$AD$14,"") | AE19: =MID($C19,3,1) | AF19: =IFERROR(AE19*$AF$14,"") | AG19: =MID($C19,5,1) | AH19: =IFERROR(AG19*$AH$14,"") | AI19: =MID($C19,6,1) | AJ19: =IFERROR(AI19*$AJ$14,"") | AK19: =MID($C19,7,1) | AL19: =IFERROR(AK19*$AL$14,"") | AM19: =MID($C19,8,1) | AN19: =IFERROR(AM19*$AN$14,"") | AO19: =MID($C19,10,1) | AP19: =IFERROR(AO19*$AP$14,"") | AQ19: =MID($C19,11,1) | AR19: =IFERROR(AQ19*$AR$14,"") | AS19: =MID($C19,12,1) | AT19: =IFERROR(AS19*$AT$14,"") | AU19: =MID($C19,13,1) | AV19: =IFERROR(AU19*$AV$14,"") | AW19: =MID($C19,15,1) | AX19: =IFERROR(AW19*$AX$14,"") | AY19: =MID($C19,16,1) | AZ19: =SUM(AB19,AD19,AF19,AH19,AJ19,AL19,AN19,AP19,AR19,AT19,AV19,AX19) -> 0 | BA19: =ROUNDUP(AZ19,-1) -> 0 | BB19: =BA19-AZ19 -> 0 | BC19: =IFERROR(BB19-AY19,"") | BD19: =BC19=0 -> FALSE
Q20: =IF(T20,IF(U20,Listes!$A$16,IF(NOT(S20),Listes!$A$17,IF(NOT(BD20),Listes!$A$18,IF(NOT(W20),Listes!$A$19,IF(NOT(X20),Listes!$A$20,IF(Y20,Listes!$A$21,"")))))),"") | S20: =C20<>0 -> FALSE | T20: =NOT(ISBLANK(L20)) -> FALSE | U20: =COUNTIF($C$15:$C$26,C20)>1 -> FALSE | V20: =S20=T20 -> TRUE | W20: =L20>200 -> FALSE | X20: =M20<=$X$13 -> TRUE | Y20: =M20=0 -> TRUE | Z20: =L20<=$Z$13 -> #N/A | AA20: =MID($C20,1,1) | AB20: =IFERROR(AA20*$AB$14,"") | AC20: =MID($C20,2,1) | AD20: =IFERROR(AC20*$AD$14,"") | AE20: =MID($C20,3,1) | AF20: =IFERROR(AE20*$AF$14,"") | AG20: =MID($C20,5,1) | AH20: =IFERROR(AG20*$AH$14,"") | AI20: =MID($C20,6,1) | AJ20: =IFERROR(AI20*$AJ$14,"") | AK20: =MID($C20,7,1) | AL20: =IFERROR(AK20*$AL$14,"") | AM20: =MID($C20,8,1) | AN20: =IFERROR(AM20*$AN$14,"") | AO20: =MID($C20,10,1) | AP20: =IFERROR(AO20*$AP$14,"") | AQ20: =MID($C20,11,1) | AR20: =IFERROR(AQ20*$AR$14,"") | AS20: =MID($C20,12,1) | AT20: =IFERROR(AS20*$AT$14,"") | AU20: =MID($C20,13,1) | AV20: =IFERROR(AU20*$AV$14,"") | AW20: =MID($C20,15,1) | AX20: =IFERROR(AW20*$AX$14,"") | AY20: =MID($C20,16,1) | AZ20: =SUM(AB20,AD20,AF20,AH20,AJ20,AL20,AN20,AP20,AR20,AT20,AV20,AX20) -> 0 | BA20: =ROUNDUP(AZ20,-1) -> 0 | BB20: =BA20-AZ20 -> 0 | BC20: =IFERROR(BB20-AY20,"") | BD20: =BC20=0 -> FALSE
Q21: =IF(T21,IF(U21,Listes!$A$16,IF(NOT(S21),Listes!$A$17,IF(NOT(BD21),Listes!$A$18,IF(NOT(W21),Listes!$A$19,IF(NOT(X21),Listes!$A$20,IF(Y21,Listes!$A$21,"")))))),"") | S21: =C21<>0 -> FALSE | T21: =NOT(ISBLANK(L21)) -> FALSE | U21: =COUNTIF($C$15:$C$26,C21)>1 -> FALSE | V21: =S21=T21 -> TRUE | W21: =L21>200 -> FALSE | X21: =M21<=$X$13 -> TRUE | Y21: =M21=0 -> TRUE | Z21: =L21<=$Z$13 -> #N/A | AA21: =MID($C21,1,1) | AB21: =IFERROR(AA21*$AB$14,"") | AC21: =MID($C21,2,1) | AD21: =IFERROR(AC21*$AD$14,"") | AE21: =MID($C21,3,1) | AF21: =IFERROR(AE21*$AF$14,"") | AG21: =MID($C21,5,1) | AH21: =IFERROR(AG21*$AH$14,"") | AI21: =MID($C21,6,1) | AJ21: =IFERROR(AI21*$AJ$14,"") | AK21: =MID($C21,7,1) | AL21: =IFERROR(AK21*$AL$14,"") | AM21: =MID($C21,8,1) | AN21: =IFERROR(AM21*$AN$14,"") | AO21: =MID($C21,10,1) | AP21: =IFERROR(AO21*$AP$14,"") | AQ21: =MID($C21,11,1) | AR21: =IFERROR(AQ21*$AR$14,"") | AS21: =MID($C21,12,1) | AT21: =IFERROR(AS21*$AT$14,"") | AU21: =MID($C21,13,1) | AV21: =IFERROR(AU21*$AV$14,"") | AW21: =MID($C21,15,1) | AX21: =IFERROR(AW21*$AX$14,"") | AY21: =MID($C21,16,1) | AZ21: =SUM(AB21,AD21,AF21,AH21,AJ21,AL21,AN21,AP21,AR21,AT21,AV21,AX21) -> 0 | BA21: =ROUNDUP(AZ21,-1) -> 0 | BB21: =BA21-AZ21 -> 0 | BC21: =IFERROR(BB21-AY21,"") | BD21: =BC21=0 -> FALSE
Q22: =IF(T22,IF(U22,Listes!$A$16,IF(NOT(S22),Listes!$A$17,IF(NOT(BD22),Listes!$A$18,IF(NOT(W22),Listes!$A$19,IF(NOT(X22),Listes!$A$20,IF(Y22,Listes!$A$21,"")))))),"") | S22: =C22<>0 -> FALSE | T22: =NOT(ISBLANK(L22)) -> FALSE | U22: =COUNTIF($C$15:$C$26,C22)>1 -> FALSE | V22: =S22=T22 -> TRUE | W22: =L22>200 -> FALSE | X22: =M22<=$X$13 -> TRUE | Y22: =M22=0 -> TRUE | Z22: =L22<=$Z$13 -> #N/A | AA22: =MID($C22,1,1) | AB22: =IFERROR(AA22*$AB$14,"") | AC22: =MID($C22,2,1) | AD22: =IFERROR(AC22*$AD$14,"") | AE22: =MID($C22,3,1) | AF22: =IFERROR(AE22*$AF$14,"") | AG22: =MID($C22,5,1) | AH22: =IFERROR(AG22*$AH$14,"") | AI22: =MID($C22,6,1) | AJ22: =IFERROR(AI22*$AJ$14,"") | AK22: =MID($C22,7,1) | AL22: =IFERROR(AK22*$AL$14,"") | AM22: =MID($C22,8,1) | AN22: =IFERROR(AM22*$AN$14,"") | AO22: =MID($C22,10,1) | AP22: =IFERROR(AO22*$AP$14,"") | AQ22: =MID($C22,11,1) | AR22: =IFERROR(AQ22*$AR$14,"") | AS22: =MID($C22,12,1) | AT22: =IFERROR(AS22*$AT$14,"") | AU22: =MID($C22,13,1) | AV22: =IFERROR(AU22*$AV$14,"") | AW22: =MID($C22,15,1) | AX22: =IFERROR(AW22*$AX$14,"") | AY22: =MID($C22,16,1) | AZ22: =SUM(AB22,AD22,AF22,AH22,AJ22,AL22,AN22,AP22,AR22,AT22,AV22,AX22) -> 0 | BA22: =ROUNDUP(AZ22,-1) -> 0 | BB22: =BA22-AZ22 -> 0 | BC22: =IFERROR(BB22-AY22,"") | BD22: =BC22=0 -> FALSE
Q23: =IF(T23,IF(U23,Listes!$A$16,IF(NOT(S23),Listes!$A$17,IF(NOT(BD23),Listes!$A$18,IF(NOT(W23),Listes!$A$19,IF(NOT(X23),Listes!$A$20,IF(Y23,Listes!$A$21,"")))))),"") | S23: =C23<>0 -> FALSE | T23: =NOT(ISBLANK(L23)) -> FALSE | U23: =COUNTIF($C$15:$C$26,C23)>1 -> FALSE | V23: =S23=T23 -> TRUE | W23: =L23>200 -> FALSE | X23: =M23<=$X$13 -> TRUE | Y23: =M23=0 -> TRUE | Z23: =L23<=$Z$13 -> #N/A | AA23: =MID($C23,1,1) | AB23: =IFERROR(AA23*$AB$14,"") | AC23: =MID($C23,2,1) | AD23: =IFERROR(AC23*$AD$14,"") | AE23: =MID($C23,3,1) | AF23: =IFERROR(AE23*$AF$14,"") | AG23: =MID($C23,5,1) | AH23: =IFERROR(AG23*$AH$14,"") | AI23: =MID($C23,6,1) | AJ23: =IFERROR(AI23*$AJ$14,"") | AK23: =MID($C23,7,1) | AL23: =IFERROR(AK23*$AL$14,"") | AM23: =MID($C23,8,1) | AN23: =IFERROR(AM23*$AN$14,"") | AO23: =MID($C23,10,1) | AP23: =IFERROR(AO23*$AP$14,"") | AQ23: =MID($C23,11,1) | AR23: =IFERROR(AQ23*$AR$14,"") | AS23: =MID($C23,12,1) | AT23: =IFERROR(AS23*$AT$14,"") | AU23: =MID($C23,13,1) | AV23: =IFERROR(AU23*$AV$14,"") | AW23: =MID($C23,15,1) | AX23: =IFERROR(AW23*$AX$14,"") | AY23: =MID($C23,16,1) | AZ23: =SUM(AB23,AD23,AF23,AH23,AJ23,AL23,AN23,AP23,AR23,AT23,AV23,AX23) -> 0 | BA23: =ROUNDUP(AZ23,-1) -> 0 | BB23: =BA23-AZ23 -> 0 | BC23: =IFERROR(BB23-AY23,"") | BD23: =BC23=0 -> FALSE
Q24: =IF(T24,IF(U24,Listes!$A$16,IF(NOT(S24),Listes!$A$17,IF(NOT(BD24),Listes!$A$18,IF(NOT(W24),Listes!$A$19,IF(NOT(X24),Listes!$A$20,IF(Y24,Listes!$A$21,"")))))),"") | S24: =C24<>0 -> FALSE | T24: =NOT(ISBLANK(L24)) -> FALSE | U24: =COUNTIF($C$15:$C$26,C24)>1 -> FALSE | V24: =S24=T24 -> TRUE | W24: =L24>200 -> FALSE | X24: =M24<=$X$13 -> TRUE | Y24: =M24=0 -> TRUE | Z24: =L24<=$Z$13 -> #N/A | AA24: =MID($C24,1,1) | AB24: =IFERROR(AA24*$AB$14,"") | AC24: =MID($C24,2,1) | AD24: =IFERROR(AC24*$AD$14,"") | AE24: =MID($C24,3,1) | AF24: =IFERROR(AE24*$AF$14,"") | AG24: =MID($C24,5,1) | AH24: =IFERROR(AG24*$AH$14,"") | AI24: =MID($C24,6,1) | AJ24: =IFERROR(AI24*$AJ$14,"") | AK24: =MID($C24,7,1) | AL24: =IFERROR(AK24*$AL$14,"") | AM24: =MID($C24,8,1) | AN24: =IFERROR(AM24*$AN$14,"") | AO24: =MID($C24,10,1) | AP24: =IFERROR(AO24*$AP$14,"") | AQ24: =MID($C24,11,1) | AR24: =IFERROR(AQ24*$AR$14,"") | AS24: =MID($C24,12,1) | AT24: =IFERROR(AS24*$AT$14,"") | AU24: =MID($C24,13,1) | AV24: =IFERROR(AU24*$AV$14,"") | AW24: =MID($C24,15,1) | AX24: =IFERROR(AW24*$AX$14,"") | AY24: =MID($C24,16,1) | AZ24: =SUM(AB24,AD24,AF24,AH24,AJ24,AL24,AN24,AP24,AR24,AT24,AV24,AX24) -> 0 | BA24: =ROUNDUP(AZ24,-1) -> 0 | BB24: =BA24-AZ24 -> 0 | BC24: =IFERROR(BB24-AY24,"") | BD24: =BC24=0 -> FALSE
Q25: =IF(T25,IF(U25,Listes!$A$16,IF(NOT(S25),Listes!$A$17,IF(NOT(BD25),Listes!$A$18,IF(NOT(W25),Listes!$A$19,IF(NOT(X25),Listes!$A$20,IF(Y25,Listes!$A$21,"")))))),"") | S25: =C25<>0 -> FALSE | T25: =NOT(ISBLANK(L25)) -> FALSE | U25: =COUNTIF($C$15:$C$26,C25)>1 -> FALSE | V25: =S25=T25 -> TRUE | W25: =L25>200 -> FALSE | X25: =M25<=$X$13 -> TRUE | Y25: =M25=0 -> TRUE | Z25: =L25<=$Z$13 -> #N/A | AA25: =MID($C25,1,1) | AB25: =IFERROR(AA25*$AB$14,"") | AC25: =MID($C25,2,1) | AD25: =IFERROR(AC25*$AD$14,"") | AE25: =MID($C25,3,1) | AF25: =IFERROR(AE25*$AF$14,"") | AG25: =MID($C25,5,1) | AH25: =IFERROR(AG25*$AH$14,"") | AI25: =MID($C25,6,1) | AJ25: =IFERROR(AI25*$AJ$14,"") | AK25: =MID($C25,7,1) | AL25: =IFERROR(AK25*$AL$14,"") | AM25: =MID($C25,8,1) | AN25: =IFERROR(AM25*$AN$14,"") | AO25: =MID($C25,10,1) | AP25: =IFERROR(AO25*$AP$14,"") | AQ25: =MID($C25,11,1) | AR25: =IFERROR(AQ25*$AR$14,"") | AS25: =MID($C25,12,1) | AT25: =IFERROR(AS25*$AT$14,"") | AU25: =MID($C25,13,1) | AV25: =IFERROR(AU25*$AV$14,"") | AW25: =MID($C25,15,1) | AX25: =IFERROR(AW25*$AX$14,"") | AY25: =MID($C25,16,1) | AZ25: =SUM(AB25,AD25,AF25,AH25,AJ25,AL25,AN25,AP25,AR25,AT25,AV25,AX25) -> 0 | BA25: =ROUNDUP(AZ25,-1) -> 0 | BB25: =BA25-AZ25 -> 0 | BC25: =IFERROR(BB25-AY25,"") | BD25: =BC25=0 -> FALSE
Q26: =IF(T26,IF(U26,Listes!$A$16,IF(NOT(S26),Listes!$A$17,IF(NOT(BD26),Listes!$A$18,IF(NOT(W26),Listes!$A$19,IF(NOT(X26),Listes!$A$20,IF(Y26,Listes!$A$21,"")))))),"") | S26: =C26<>0 -> FALSE | T26: =NOT(ISBLANK(L26)) -> FALSE | U26: =COUNTIF($C$15:$C$26,C26)>1 -> FALSE | V26: =S26=T26 -> TRUE | W26: =L26>200 -> FALSE | X26: =M26<=$X$13 -> TRUE | Y26: =M26=0 -> TRUE | Z26: =L26<=$Z$13 -> #N/A | AA26: =MID($C26,1,1) | AB26: =IFERROR(AA26*$AB$14,"") | AC26: =MID($C26,2,1) | AD26: =IFERROR(AC26*$AD$14,"") | AE26: =MID($C26,3,1) | AF26: =IFERROR(AE26*$AF$14,"") | AG26: =MID($C26,5,1) | AH26: =IFERROR(AG26*$AH$14,"") | AI26: =MID($C26,6,1) | AJ26: =IFERROR(AI26*$AJ$14,"") | AK26: =MID($C26,7,1) | AL26: =IFERROR(AK26*$AL$14,"") | AM26: =MID($C26,8,1) | AN26: =IFERROR(AM26*$AN$14,"") | AO26: =MID($C26,10,1) | AP26: =IFERROR(AO26*$AP$14,"") | AQ26: =MID($C26,11,1) | AR26: =IFERROR(AQ26*$AR$14,"") | AS26: =MID($C26,12,1) | AT26: =IFERROR(AS26*$AT$14,"") | AU26: =MID($C26,13,1) | AV26: =IFERROR(AU26*$AV$14,"") | AW26: =MID($C26,15,1) | AX26: =IFERROR(AW26*$AX$14,"") | AY26: =MID($C26,16,1) | AZ26: =SUM(AB26,AD26,AF26,AH26,AJ26,AL26,AN26,AP26,AR26,AT26,AV26,AX26) -> 0 | BA26: =ROUNDUP(AZ26,-1) -> 0 | BB26: =BA26-AZ26 -> 0 | BC26: =IFERROR(BB26-AY26,"") | BD26: =BC26=0 -> FALSE
C28: Certifié exact et conforme à la LAVS et aux dispositions d'application | F28: Montant total des salaires soumis | L28: =SUM(L15:L26) -> 0 | M28: =SUM(M15:M26) -> 0 | N28: =SUM(N15:N26) -> 0
C29: Mémento 2.01 - Cotisations paritaires à l'AVS, à l'AI et aux APG
C30: Date | D30: Signature | E30: Personne de référence | J30: Courriel | M30: Téléphone
B34: Col. | D34: Instructions
B35: NSS | D35: Le numéro de sécurité sociale (NSS) est formé de 13 chiffres.
B36: Renonc. à franchise | D36: Dès le 1er janvier 2024, le salarié qui veut renoncer à la franchise en informe son employeur au plus tard jusqu'au paiement du premier salaire après qu'il a atteint l'âge de référence ou du paiement du premier salaire de toute année subséquente.
B37: Canton de travail | D37: Il est impératif d'indiquer, pour chaque assuré, le canton dans lequel il exerce son activité lucrative, cette information est nécessaire à la facturation des cotisations dues aux allocations familiales.
B38: Période d'activité | D38: La date d'entrée en service et de fin de contrat de travail de chaque assuré doit être indiquée de manière précise.
B39: AVS / AI / APG | D39: Le salaire brut de tous les employés doit figurer dans la déclaration annuelle des salaires. Le revenu des personnes qui ont atteint l'âge légal de référene, n'est soumis aux cotisations AVS/AI/APG que sur la part du salaire qui dépasse Fr. 1'400.-- par mois, ou Frs 16'800.-- par année.
B40: Assurance chômage | D40: Salaire brut AC 1, maximum Frs 148'200.-- par année ou Frs 12'350.-- par mois. Les personnes de plus de 64/65 ans sont exonérées.
B41: AC Solidarité | D41: Jusqu'au 31 décembre 2022, le salaire brut AC 2 (assurance chômage de solidarité) dépassant la limite de Frs 148'200.-- par année ou Frs 12'350.-- par mois est soumis. Dès le 1er janvier 2023, le pourcentage de solidarité (AC 2) est supprimé.

Sheet Listes
A1: Années | B1: LPP
A2: 2027 | B2: 23040
A3: 2026 | B3: 22680
A4: 2025 | B4: 22050
A5: 2024 | B5: 22050
A6: 2023 | B6: 21510
A7: 2022 | B7: 21510
A9: Veuillez indiquer votre numéro d'affilié.
A10: Veuillez indiquer le nom de votre institution de prévoyance LPP. Si vous avez changé d'institution, veuillez nous joindre une nouvelle attestation d'affiliation.
A11: Veuillez indiquer le nom de votre assurance LAA.
A12: Veuillez indiquer le NSS (numéro AVS) et le salaire de tous vos collaborateurs. À défaut de numéro AVS, nous vous remercions de compléter une demande de certificat d’assurance.
A13: Si vous n'avez pas occupé de personnel durant toute l'année, veuillez nous l'indiquer en cochant la case prévue à cet effet. A envoyer même si vous n'avez pas employé de personnel.
A14: Veuillez saisir une année de déclaration.
A16: Ce numéro AVS est déjà utilisé. Vérifiez qu'il s'agit bien du même assuré.
A17: Numéro AVS manquant.
A18: Veuillez vous assurer que le numéro AVS est correct.
A19: Veuillez vous assurer qu'il s'agit bien du salaire et non de cotisations.
A20: La cotisation à l'assurance chômage se calcule en principe sur CHF 148'200.-
A21: Veuillez compléter la colonne "Assurance chômage" sauf si plus de 64/65 ans.
... A51: ZH
